BEGIN:VCALENDAR
VERSION:2.0
PRODID:-//wp-events-plugin.com//7.2.3.1//EN
TZID:America/Chicago
X-WR-TIMEZONE:America/Chicago
BEGIN:VEVENT
UID:171@glazedpyop.com
DTSTART;TZID=America/Chicago:20260213T060000
DTEND;TZID=America/Chicago:20260213T200000
DTSTAMP:20260128T181526Z
URL:https://glazedpyop.com/events/valentines-date-night/
SUMMARY:Valentine's Date night
DESCRIPTION:Celebrate love with a creative twist at our Glazed Valentine’
 s Date night 💕Join us for a cozy\, guided pottery-painting experience d
 esigned for couples\, friends\, or anyone wanting a special night out befo
 re Valentine’s Day.\nEach ticket includes one medium-sized ceramic vase 
 to paint and personalize\, along with a customizable floral bouquet beauti
 fully provided by Juniper Blooms. Our artists will walk you through the pa
 inting process\, making this experience fun and approachable for all skill
  levels.\nEnjoy two hours of studio time\, creative guidance\, and a relax
 ed\, romantic atmosphere—perfect for making memories and a keepsake you
 ’ll treasure long after Valentine’s Day.\nDate: February 13thTime: 6:0
 0–8:00 PMPrice: $62 per ticket\nWhether you’re planning a date night\,
  Galentine’s outing\, or simply want to treat yourself to something spec
 ial\, this event is the perfect way to get glazed in the spirit of love.\n
 [product_page id="1810"]\n[product_page id="1814"]
ATTACH;FMTTYPE=image/jpeg:https://glazedpyop.com/wp-content/uploads/2026/0
 1/Glazed-4.png
CATEGORIES:Glazed Events
LOCATION:Glazed\, 1345 Opelika Road\, Auburn\, AL\, 36830\, United States
X-APPLE-STRUCTURED-LOCATION;VALUE=URI;X-ADDRESS=1345 Opelika Road\, Auburn\
 , AL\, 36830\, United States;X-APPLE-RADIUS=100;X-TITLE=Glazed:geo:0,0
END:VEVENT
BEGIN:VTIMEZONE
TZID:America/Chicago
X-LIC-LOCATION:America/Chicago
BEGIN:STANDARD
DTSTART:20251102T010000
TZOFFSETFROM:-0500
TZOFFSETTO:-0600
TZNAME:CST
END:STANDARD
END:VTIMEZONE
END:VCALENDAR