BEGIN:VCALENDAR
VERSION:2.0
PRODID:-//wp-events-plugin.com//7.2.3.1//EN
TZID:America/Chicago
X-WR-TIMEZONE:America/Chicago
BEGIN:VEVENT
UID:172@glazedpyop.com
DTSTART;TZID=America/Chicago:20260226T180000
DTEND;TZID=America/Chicago:20260226T200000
DTSTAMP:20260216T211450Z
URL:https://glazedpyop.com/events/swiftie-night/
SUMMARY:Swiftie Night!!
DESCRIPTION:Swiftie Night at Glazed 🎤✨\nCalling all Swifties! Grab you
 r besties and join us for a magical night of pottery painting set to a ful
 l Taylor Swift soundtrack — from the classics to the Eras Tour favorites
 ! 💕 Join us at the studio from 6:00-8:00pm for a night to remember!!\nA
 t Swiftie Night\, you will choose the pottery you wish to paint\, and we w
 ill teach you some fun new techniques as we jam out together!! Whether you
 're a beginner or a seasoned painter\, this night is all about creativity\
 , friendship\, and a little sparkle. All ages are welcome!\n✨ Techniques
  we’ll feature:• Ombre blending• Lace details• Our fan-favorite co
 nfetti technique\n\n🎟 Ticket Details\n\n 	\n$10 ticket per person (appl
 ied toward your pottery total!)\n\n 	\nTicket is non-refundable\, but if y
 ou're unable to make it\, the ticket cost can be transferred to another Gl
 azed event or used for a future walk-in visit.\n\n 	\nA ticket is required
  for each attendee to help us plan seating and supplies\n\n\nPottery is ch
 osen and paid for the night of the event.\n[product_page id="2163"]\n\n&nb
 sp\;
ATTACH;FMTTYPE=image/jpeg:https://glazedpyop.com/wp-content/uploads/2026/0
 2/IMG_1302.jpeg
CATEGORIES:Glazed Events
LOCATION:Glazed\, 1345 Opelika Road\, Auburn\, AL\, 36830\, United States
X-APPLE-STRUCTURED-LOCATION;VALUE=URI;X-ADDRESS=1345 Opelika Road\, Auburn\
 , AL\, 36830\, United States;X-APPLE-RADIUS=100;X-TITLE=Glazed:geo:0,0
END:VEVENT
BEGIN:VTIMEZONE
TZID:America/Chicago
X-LIC-LOCATION:America/Chicago
BEGIN:STANDARD
DTSTART:20251102T010000
TZOFFSETFROM:-0500
TZOFFSETTO:-0600
TZNAME:CST
END:STANDARD
END:VTIMEZONE
END:VCALENDAR