BEGIN:VCALENDAR
VERSION:2.0
PRODID:-//wp-events-plugin.com//7.2.3.1//EN
TZID:America/Chicago
X-WR-TIMEZONE:America/Chicago
BEGIN:VEVENT
UID:157@glazedpyop.com
DTSTART;TZID=America/Chicago:20251009T180000
DTEND;TZID=America/Chicago:20251009T200000
DTSTAMP:20260404T201014Z
URL:https://glazedpyop.com/events/spooky-blending-class/
SUMMARY:Spooky Blending Class
DESCRIPTION:Join us for a spooky night of painting and learn our favorite b
 lending technique to create glowing Halloween effects! Our Glazed artists 
 will guide you step-by-step in mastering smooth color transitions and laye
 ring spooky shapes like ghosts\, bats\, and more.
ATTACH;FMTTYPE=image/jpeg:https://glazedpyop.com/wp-content/uploads/2025/1
 0/Spooky-Blending-Class.jpg
CATEGORIES:Seasonal Events
LOCATION:Glazed\, 1345 Opelika Road\, Auburn\, AL\, 36830\, United States
X-APPLE-STRUCTURED-LOCATION;VALUE=URI;X-ADDRESS=1345 Opelika Road\, Auburn\
 , AL\, 36830\, United States;X-APPLE-RADIUS=100;X-TITLE=Glazed:geo:0,0
END:VEVENT
BEGIN:VTIMEZONE
TZID:America/Chicago
X-LIC-LOCATION:America/Chicago
BEGIN:DAYLIGHT
DTSTART:20250309T030000
TZOFFSETFROM:-0600
TZOFFSETTO:-0500
TZNAME:CDT
END:DAYLIGHT
END:VTIMEZONE
END:VCALENDAR