BEGIN:VCALENDAR
VERSION:2.0
PRODID:-//wp-events-plugin.com//7.2.3.1//EN
TZID:America/Chicago
X-WR-TIMEZONE:America/Chicago
BEGIN:VEVENT
UID:160@glazedpyop.com
DTSTART;TZID=America/Chicago;VALUE=DATE:20251218
DTEND;TZID=America/Chicago;VALUE=DATE:20251219
DTSTAMP:20251128T134242Z
URL:https://glazedpyop.com/events/paint-your-story/
SUMMARY:Paint Your Story
DESCRIPTION:Celebrate the magic of stories—yours or your favorite one! Ch
 oose a book vase or book box and bring it to life with your own creative t
 wist. Paint a beloved book cover\, a favorite quote\, or design your own s
 tory from scratch. This is your chance to turn imagination into art.\n
ATTACH;FMTTYPE=image/jpeg:https://glazedpyop.com/wp-content/uploads/2025/1
 0/4.jpg
CATEGORIES:Glazed Events
LOCATION:Glazed\, 1345 Opelika Road\, Auburn\, AL\, 36830\, United States
X-APPLE-STRUCTURED-LOCATION;VALUE=URI;X-ADDRESS=1345 Opelika Road\, Auburn\
 , AL\, 36830\, United States;X-APPLE-RADIUS=100;X-TITLE=Glazed:geo:0,0
END:VEVENT
BEGIN:VTIMEZONE
TZID:America/Chicago
X-LIC-LOCATION:America/Chicago
BEGIN:STANDARD
DTSTART:20251102T010000
TZOFFSETFROM:-0500
TZOFFSETTO:-0600
TZNAME:CST
END:STANDARD
END:VTIMEZONE
END:VCALENDAR